{
 "currentVersion": 11.3,
 "serviceDescription": "PMX_GDPIE/Pruebas_Tecnologicas_240523",
 "name": "PMX_GDPIE/Pruebas_Tecnologicas_240523",
 "description": "",
 "extent": {
  "xmin": 433183.94988000003,
  "ymin": 1979011.6372200001,
  "xmax": 434186.35188000003,
  "ymax": 1980189.1371600002,
  "spatialReference": {
   "wkid": 32615,
   "latestWkid": 32615
  }
 },
 "initialExtent": {
  "xmin": 433183.94988000003,
  "ymin": 1979011.6372200001,
  "xmax": 434186.35188000003,
  "ymax": 1980189.1371600002,
  "spatialReference": {
   "wkid": 32615,
   "latestWkid": 32615
  }
 },
 "fullExtent": {
  "xmin": 433183.94988000003,
  "ymin": 1979011.6372200001,
  "xmax": 434186.35188000003,
  "ymax": 1980189.1371600002,
  "spatialReference": {
   "wkid": 32615,
   "latestWkid": 32615
  }
 },
 "sortableFields": "",
 "bandCount": 4,
 "pixelType": "U8",
 "minValues": [
  0,
  0,
  0,
  0
 ],
 "maxValues": [
  255,
  255,
  255,
  255
 ],
 "meanValues": [
  15.199052565783,
  18.420470468085,
  12.932052431572,
  41.137321030717
 ],
 "stdvValues": [
  37.849900048853,
  43.778684531516,
  32.651775982539,
  93.796256358443
 ],
 "hasMultidimensions": false,
 "pixelSizeX": 0.05862000000000011,
 "pixelSizeY": 0.058620000000000436,
 "meanPixelSize": 0.05862000000000027,
 "datasetFormat": "TIFF",
 "uncompressedSize": 1373950800,
 "blockWidth": 17100,
 "blockHeight": 1,
 "compressionType": "LZW",
 "bandNames": [
  "Band_1",
  "Band_2",
  "Band_3",
  "Band_4"
 ],
 "allowCopy": true,
 "allowAnalysis": true,
 "itemAccess": false,
 "inspectionCapabilities": "",
 "minPixelSize": 0,
 "maxPixelSize": 0,
 "copyrightText": "",
 "serviceDataType": "esriImageServiceDataTypeGeneric",
 "serviceSourceType": "esriImageServiceSourceTypeDataset",
 "objectIdField": "",
 "fields": [],
 "capabilities": "Image,Metadata,Mensuration",
 "defaultMosaicMethod": "Center",
 "allowedMosaicMethods": "",
 "sortField": "",
 "sortValue": null,
 "sortAscending": true,
 "mosaicOperator": "First",
 "defaultCompressionQuality": 75,
 "defaultResamplingMethod": "Bilinear",
 "maxImageHeight": 4100,
 "maxImageWidth": 15000,
 "allowRasterFunction": true,
 "rasterFunctionInfos": [
  {
   "name": "None",
   "description": "",
   "help": ""
  }
 ],
 "rasterTypeInfos": [
  {
   "name": "Raster Dataset",
   "description": "Supports all ArcGIS Raster Datasets",
   "help": ""
  }
 ],
 "mensurationCapabilities": "Basic",
 "hasHistograms": true,
 "hasColormap": false,
 "hasRasterAttributeTable": false,
 "minScale": 0,
 "maxScale": 0,
 "exportTilesAllowed": false,
 "supportsStatistics": false,
 "supportsAdvancedQueries": false,
 "editFieldsInfo": null,
 "ownershipBasedAccessControlForRasters": null,
 "allowComputeTiePoints": false,
 "useStandardizedQueries": true,
 "advancedQueryCapabilities": {
  "useStandardizedQueries": true,
  "supportsStatistics": false,
  "supportsOrderBy": false,
  "supportsDistinct": false,
  "supportsPagination": false
 },
 "spatialReference": {
  "wkid": 32615,
  "latestWkid": 32615
 }
}
