{
 "currentVersion": 11.3,
 "serviceDescription": "PMX_GDPIE/Pruebas_Tecnologicas_280423",
 "name": "PMX_GDPIE/Pruebas_Tecnologicas_280423",
 "description": "",
 "extent": {
  "xmin": 439067.52855000005,
  "ymin": 1976844.4079500001,
  "xmax": 439765.74658000004,
  "ymax": 1977152.6102900002,
  "spatialReference": {
   "wkid": 32615,
   "latestWkid": 32615
  }
 },
 "initialExtent": {
  "xmin": 439067.52855000005,
  "ymin": 1976844.4079500001,
  "xmax": 439765.74658000004,
  "ymax": 1977152.6102900002,
  "spatialReference": {
   "wkid": 32615,
   "latestWkid": 32615
  }
 },
 "fullExtent": {
  "xmin": 439067.52855000005,
  "ymin": 1976844.4079500001,
  "xmax": 439765.74658000004,
  "ymax": 1977152.6102900002,
  "spatialReference": {
   "wkid": 32615,
   "latestWkid": 32615
  }
 },
 "sortableFields": "",
 "bandCount": 4,
 "pixelType": "U8",
 "minValues": [
  0,
  0,
  0,
  0
 ],
 "maxValues": [
  255,
  255,
  255,
  255
 ],
 "meanValues": [
  131.15642874014,
  119.69335826373,
  79.059633672514,
  227.26107066869
 ],
 "stdvValues": [
  54.080816655405,
  48.382144858589,
  41.840125957575,
  79.397599531136
 ],
 "hasMultidimensions": false,
 "pixelSizeX": 0.033189999999999484,
 "pixelSizeY": 0.033190000000008206,
 "meanPixelSize": 0.03319000000000384,
 "datasetFormat": "TIFF",
 "uncompressedSize": 781398328,
 "blockWidth": 21037,
 "blockHeight": 1,
 "compressionType": "LZW",
 "bandNames": [
  "Band_1",
  "Band_2",
  "Band_3",
  "Band_4"
 ],
 "allowCopy": true,
 "allowAnalysis": true,
 "itemAccess": false,
 "inspectionCapabilities": "",
 "noDataValue": -10000,
 "noDataValues": [
  -10000,
  -10000,
  -10000,
  -10000
 ],
 "minPixelSize": 0,
 "maxPixelSize": 0,
 "copyrightText": "",
 "serviceDataType": "esriImageServiceDataTypeGeneric",
 "serviceSourceType": "esriImageServiceSourceTypeDataset",
 "objectIdField": "",
 "fields": [],
 "capabilities": "Image,Metadata,Mensuration",
 "defaultMosaicMethod": "Center",
 "allowedMosaicMethods": "",
 "sortField": "",
 "sortValue": null,
 "sortAscending": true,
 "mosaicOperator": "First",
 "defaultCompressionQuality": 75,
 "defaultResamplingMethod": "Bilinear",
 "maxImageHeight": 4100,
 "maxImageWidth": 15000,
 "allowRasterFunction": true,
 "rasterFunctionInfos": [
  {
   "name": "None",
   "description": "",
   "help": ""
  }
 ],
 "rasterTypeInfos": [
  {
   "name": "Raster Dataset",
   "description": "Supports all ArcGIS Raster Datasets",
   "help": ""
  }
 ],
 "mensurationCapabilities": "Basic",
 "hasHistograms": true,
 "hasColormap": false,
 "hasRasterAttributeTable": false,
 "minScale": 0,
 "maxScale": 0,
 "exportTilesAllowed": false,
 "supportsStatistics": false,
 "supportsAdvancedQueries": false,
 "editFieldsInfo": null,
 "ownershipBasedAccessControlForRasters": null,
 "allowComputeTiePoints": false,
 "useStandardizedQueries": true,
 "advancedQueryCapabilities": {
  "useStandardizedQueries": true,
  "supportsStatistics": false,
  "supportsOrderBy": false,
  "supportsDistinct": false,
  "supportsPagination": false
 },
 "spatialReference": {
  "wkid": 32615,
  "latestWkid": 32615
 }
}
