View In:
ArcGIS JavaScript
ArcGIS Online Map Viewer
ArcGIS Earth
Service Description: PMX_GDPIE/Pruebas_Tecnologicas_240523
Name: PMX_GDPIE/Pruebas_Tecnologicas_240523
Description:
Single Fused Map Cache: false
Extent:
XMin: 433183.94988000003
YMin: 1979011.6372200001
XMax: 434186.35188000003
YMax: 1980189.1371600002
Spatial Reference: 32615
(32615)
Initial Extent:
XMin: 433183.94988000003
YMin: 1979011.6372200001
XMax: 434186.35188000003
YMax: 1980189.1371600002
Spatial Reference: 32615
(32615)
Full Extent:
XMin: 433183.94988000003
YMin: 1979011.6372200001
XMax: 434186.35188000003
YMax: 1980189.1371600002
Spatial Reference: 32615
(32615)
Pixel Size X: 0.05862000000000011
Pixel Size Y: 0.058620000000000436
Band Count: 4
Pixel Type: U8
RasterFunction Infos: {"rasterFunctionInfos": [{
"name": "None",
"description": "",
"help": ""
}]}
Mensuration Capabilities: Basic
Inspection Capabilities:
Has Histograms: true
Has Colormap: false
Has Multi Dimensions : false
Rendering Rule:
Min Scale: 0
Max Scale: 0
Copyright Text:
Service Data Type: esriImageServiceDataTypeGeneric
Min Values: 0, 0, 0, 0
Max Values: 255, 255, 255, 255
Mean Values: 15.199052565783, 18.420470468085, 12.932052431572, 41.137321030717
Standard Deviation Values: 37.849900048853, 43.778684531516, 32.651775982539, 93.796256358443
Object ID Field:
Fields:
None
Default Mosaic Method: Center
Allowed Mosaic Methods:
SortField:
SortValue: null
Mosaic Operator: First
Default Compression Quality: 75
Default Resampling Method: Bilinear
Max Record Count: null
Max Image Height: 4100
Max Image Width: 15000
Max Download Image Count: null
Max Mosaic Image Count: null
Allow Raster Function: true
Allow Copy: true
Allow Analysis: true
Allow Compute TiePoints: false
Supports Statistics: false
Supports Advanced Queries: false
Use StandardizedQueries: true
Raster Type Infos:
Name: Raster Dataset
Description: Supports all ArcGIS Raster Datasets
Help:
Has Raster Attribute Table: false
Edit Fields Info: null
Ownership Based AccessControl For Rasters: null
Child Resources:
Info
Histograms
Statistics
Key Properties
Legend
Raster Function Infos
Supported Operations:
Export Image
Identify
Measure
Compute Histograms
Compute Statistics Histograms
Get Samples
Compute Class Statistics
Query Boundary
Compute Pixel Location
Compute Angles
Validate
Project