View In:
ArcGIS JavaScript
ArcGIS Online Map Viewer
ArcGIS Earth
Service Description: PMX_GDPIE/Pruebas_Tecnologicas_280423
Name: PMX_GDPIE/Pruebas_Tecnologicas_280423
Description:
Single Fused Map Cache: false
Extent:
XMin: 439067.52855000005
YMin: 1976844.4079500001
XMax: 439765.74658000004
YMax: 1977152.6102900002
Spatial Reference: 32615
(32615)
Initial Extent:
XMin: 439067.52855000005
YMin: 1976844.4079500001
XMax: 439765.74658000004
YMax: 1977152.6102900002
Spatial Reference: 32615
(32615)
Full Extent:
XMin: 439067.52855000005
YMin: 1976844.4079500001
XMax: 439765.74658000004
YMax: 1977152.6102900002
Spatial Reference: 32615
(32615)
Pixel Size X: 0.033189999999999484
Pixel Size Y: 0.033190000000008206
Band Count: 4
Pixel Type: U8
RasterFunction Infos: {"rasterFunctionInfos": [{
"name": "None",
"description": "",
"help": ""
}]}
Mensuration Capabilities: Basic
Inspection Capabilities:
Has Histograms: true
Has Colormap: false
Has Multi Dimensions : false
Rendering Rule:
Min Scale: 0
Max Scale: 0
Copyright Text:
Service Data Type: esriImageServiceDataTypeGeneric
Min Values: 0, 0, 0, 0
Max Values: 255, 255, 255, 255
Mean Values: 131.15642874014, 119.69335826373, 79.059633672514, 227.26107066869
Standard Deviation Values: 54.080816655405, 48.382144858589, 41.840125957575, 79.397599531136
Object ID Field:
Fields:
None
Default Mosaic Method: Center
Allowed Mosaic Methods:
SortField:
SortValue: null
Mosaic Operator: First
Default Compression Quality: 75
Default Resampling Method: Bilinear
Max Record Count: null
Max Image Height: 4100
Max Image Width: 15000
Max Download Image Count: null
Max Mosaic Image Count: null
Allow Raster Function: true
Allow Copy: true
Allow Analysis: true
Allow Compute TiePoints: false
Supports Statistics: false
Supports Advanced Queries: false
Use StandardizedQueries: true
Raster Type Infos:
Name: Raster Dataset
Description: Supports all ArcGIS Raster Datasets
Help:
Has Raster Attribute Table: false
Edit Fields Info: null
Ownership Based AccessControl For Rasters: null
Child Resources:
Info
Histograms
Statistics
Key Properties
Legend
Raster Function Infos
Supported Operations:
Export Image
Identify
Measure
Compute Histograms
Compute Statistics Histograms
Get Samples
Compute Class Statistics
Query Boundary
Compute Pixel Location
Compute Angles
Validate
Project